BEGIN:VCALENDAR
VERSION:2.0
PRODID:-//Politeknik Banjarnegara - ECPv6.6.4.2//NONSGML v1.0//EN
CALSCALE:GREGORIAN
METHOD:PUBLISH
X-WR-CALNAME:Politeknik Banjarnegara
X-ORIGINAL-URL:https://polibara.serverdata.id
X-WR-CALDESC:Events for Politeknik Banjarnegara
REFRESH-INTERVAL;VALUE=DURATION:PT1H
X-Robots-Tag:noindex
X-PUBLISHED-TTL:PT1H
BEGIN:VTIMEZONE
TZID:UTC
BEGIN:STANDARD
TZOFFSETFROM:+0000
TZOFFSETTO:+0000
TZNAME:UTC
DTSTART:20240101T000000
END:STANDARD
END:VTIMEZONE
BEGIN:VEVENT
DTSTART;TZID=UTC:20240608T080000
DTEND;TZID=UTC:20240813T170000
DTSTAMP:20260425T021642
CREATED:20240608T152405Z
LAST-MODIFIED:20240609T000414Z
UID:1335-1717833600-1723568400@polibara.serverdata.id
SUMMARY:Pendaftaran Mahasiswa Baru
DESCRIPTION:Keterangan Penerimaan Mahasiswa Baru Politeknik\nTahun Akademik 2024/2025 \nPoliteknik Banjarnegara \nMenyambut Calon Mahasiswa Berprestasi dan Berbakat! \nPoliteknik Banjarnegara membuka penerimaan mahasiswa baru untuk Tahun Akademik 2024/2025. Kami menawarkan berbagai program studi berkualitas yang dirancang untuk mempersiapkan lulusan menjadi profesional yang kompeten dan siap kerja.
URL:https://polibara.serverdata.id/agenda/pendaftaran-mahasiswa-baru/
LOCATION:Aula Kampus Politeknik\, Jl. Raya Madukara KM. 02 Kel. Kenteng\, Kec. Madukara\, Banjarnegara\, Jawa Tengah\, 53412\, Indonesia
CATEGORIES:Pendaftaran
ATTACH;FMTTYPE=image/jpeg:https://polibara.serverdata.id/wp-content/uploads/2024/06/2017-07-26.jpg
END:VEVENT
BEGIN:VEVENT
DTSTART;VALUE=DATE:20240621
DTEND;VALUE=DATE:20240622
DTSTAMP:20260425T021642
CREATED:20240608T234627Z
LAST-MODIFIED:20240608T234627Z
UID:1411-1718928000-1719014399@polibara.serverdata.id
SUMMARY:Pelatihan Pembuatan Pupuk Kompos
DESCRIPTION:Pelatihan pengolahan sampah merupakan kegiatan yang bertujuan untuk memberikan pengetahuan dan keterampilan kepada masyarakat tentang cara mengelola sampah dengan baik dan benar. \nTujuan Pelatihan Pengolahan Sampah: \n\nMeningkatkan pengetahuan dan pemahaman masyarakat tentang jenis-jenis sampah\, dampak negatif sampah\, dan pentingnya pengelolaan sampah yang berkelanjutan.\nMemberikan keterampilan kepada masyarakat dalam memilah sampah\, mengolah sampah organik dan anorganik\, serta memanfaatkan kembali sampah untuk produk yang bermanfaat.\nMeningkatkan partisipasi masyarakat dalam pengelolaan sampah di lingkungan tempat tinggalnya.\nMendukung pencapaian target p
URL:https://polibara.serverdata.id/agenda/pelatihan-pembuatan-pupuk-kompos/
LOCATION:Laboratorium Agroindustri\, Jl. Raya Madukara KM. 02 Kel. Kenteng\, Kec. Madukara\, Banjarnegara\, Jawa Tengah\, 53412\, Indonesia
CATEGORIES:Pelatihan
ATTACH;FMTTYPE=image/jpeg:https://polibara.serverdata.id/wp-content/uploads/2024/06/Membuat-Pupuk-Kompos-Alami-dari-Sampah-Dapur_-Ini-Caranya.jpg
ORGANIZER;CN="DIII Agroindustri":MAILTO:rafasya.shifan@gmail.com
END:VEVENT
END:VCALENDAR